BEGIN:VCALENDAR
VERSION:2.0
PRODID:-//eventon.com NONSGML v1.0//EN
BEGIN:VEVENT
UID:69eceb782942c
DTSTAMP:20260425T092736
DTSTART:20250801T230000Z
DTEND:20250802T020000Z
TZID:America/Los_Angeles
LOCATION:
SUMMARY:Artwalk on El Paseo
DESCRIPTION: El Paseo’s ArtWalk happens the first Friday of each month\,  4–7 p.m.\,  through April. Explore receptions at up to 14 galleries showcasing contemporary and traditional art. Enjoy classic cars from El Paseo Cruise Night and the Melissa Morgan Sculpture Garden\,  all amidst a stunning array of three-dimensional art along the[..]\nhttps://theshopsonelpaseo.com/events/artwalk-on-el-paseo-2/
URL:https://theshopsonelpaseo.com/events/artwalk-on-el-paseo-2/
END:VEVENT
END:VCALENDAR